BEGIN:VCALENDAR
VERSION:2.0
PRODID:-//Plone.org//NONSGML plone.app.event//EN
X-WR-TIMEZONE:Europe/Madrid
BEGIN:VEVENT
SUMMARY:Reunió consell CREMIT
DTSTART;TZID=Europe/Madrid:20221104T120000
DTEND;TZID=Europe/Madrid:20221104T130000
DTSTAMP:20260420T202438Z
UID:22672bcfc660454b8ba3bc0b86043490@genwebv4.upc.edu
CREATED:20220912T102913Z
LAST-MODIFIED:20221018T222737Z
LOCATION:Presencial ETSEIB
URL:https://cremit.upc.edu/ca/esdeveniments/esdeveniment-de-mostra-3
END:VEVENT
BEGIN:VTIMEZONE
TZID:Europe/Madrid
X-LIC-LOCATION:Europe/Madrid
BEGIN:STANDARD
DTSTART:20221030T020000
TZNAME:CET
TZOFFSETFROM:+0200
TZOFFSETTO:+0100
END:STANDARD
END:VTIMEZONE
END:VCALENDAR
